BEGIN:VCALENDAR
VERSION:2.0
PRODID:-//Tukios.com/
BEGIN:VEVENT
UID:bc2e4a72-800a-4bd4-8d3a-587bf7c79da0@www.frenchfunerals.com
DTSTAMP:20260424T013810Z
DTSTART:20260429T000000Z
DTEND:20260429T010000Z
SUMMARY:Visitation
DESCRIPTION:
URL:https://www.frenchfunerals.com/obituaries/willie-lacour
LOCATION:Westside Chapel 9300 Golf Course Rd NW  Albuquerque NM 87114
GEO:35.1870741;-106.6839594
END:VEVENT
END:VCALENDAR