BEGIN:VCALENDAR
VERSION:2.0
PRODID:-//Tukios.com/
BEGIN:VEVENT
UID:b54b0abf-912f-412f-8207-f1874611fc35@www.frenchfunerals.com
DTSTAMP:20260424T014111Z
DTSTART:20260429T141500Z
DTEND:20260429T150000Z
SUMMARY:Rosary
DESCRIPTION:
URL:https://www.frenchfunerals.com/obituaries/willie-lacour
LOCATION:Our Lady of the Most Holy Rosary Catholic Community 5415 Fortuna 
	Road NW  Albuquerque NM 87105
GEO:35.0953883;-106.7020968
END:VEVENT
END:VCALENDAR