BEGIN:VCALENDAR
VERSION:2.0
PRODID:-//Tukios.com/
BEGIN:VEVENT
UID:1e2cc999-3107-4e2b-b791-d387af9088d9@www.frenchfunerals.com
DTSTAMP:20260424T014643Z
DTSTART:20260429T150000Z
DTEND:20260429T160000Z
SUMMARY:Mass
DESCRIPTION:
URL:https://www.frenchfunerals.com/obituaries/willie-lacour
LOCATION:Our Lady of the Most Holy Rosary Catholic Community 5415 Fortuna 
	Road NW  Albuquerque NM 87105
GEO:35.0953883;-106.7020968
END:VEVENT
END:VCALENDAR