BEGIN:VCALENDAR
VERSION:2.0
PRODID:-//Tukios.com/
BEGIN:VEVENT
UID:3dbedcb5-7389-4385-8fa5-cd5bd5e70fc2@www.frenchfunerals.com
DTSTAMP:20260424T025959Z
DTSTART:20260503T210000Z
DTEND:20260503T220000Z
SUMMARY:Memorial Service
DESCRIPTION:
URL:https://www.frenchfunerals.com/obituaries/ruth-jean-henderson
LOCATION:Lomas Chapel 10500 Lomas Blvd NE  Albuquerque NM 87112
GEO:35.0868083;-106.5310544
END:VEVENT
END:VCALENDAR