BEGIN:VCALENDAR
VERSION:2.0
PRODID:-//Tukios.com/
BEGIN:VEVENT
UID:fa2e0b51-fb61-4553-80e7-fc0da1b028e6@www.frenchfunerals.com
DTSTAMP:20260424T025826Z
DTSTART:20260503T200000Z
DTEND:20260503T210000Z
SUMMARY:Visitation
DESCRIPTION:
URL:https://www.frenchfunerals.com/obituaries/ruth-jean-henderson
LOCATION:Lomas Chapel 10500 Lomas Blvd NE  Albuquerque NM 87112
GEO:35.0868083;-106.5310544
END:VEVENT
END:VCALENDAR