BEGIN:VCALENDAR
VERSION:2.0
PRODID:-//Tukios.com/
BEGIN:VEVENT
UID:c64cc476-3e5f-44bb-8a54-623caa1475ca@www.frenchfunerals.com
DTSTAMP:20260424T025403Z
DTSTART:20260503T220000Z
DTEND:20260504T000000Z
SUMMARY:Reception
DESCRIPTION:
URL:https://www.frenchfunerals.com/obituaries/ruth-jean-henderson
LOCATION:Lomas Reception room 10500 Lomas Blvd NE  Albuquerque NM 87112
GEO:35.0868083;-106.5310544
END:VEVENT
END:VCALENDAR