BEGIN:VCALENDAR
VERSION:2.0
PRODID:-//Tukios.com/
BEGIN:VEVENT
UID:15ec80ac-ea0b-43f8-9332-efe0161b0068@www.frenchfunerals.com
DTSTAMP:20260424T012134Z
DTSTART:20260523T153000Z
DTEND:20260523T160000Z
SUMMARY:Eulogies
DESCRIPTION:
URL:https://www.frenchfunerals.com/obituaries/rebecca-cde-baca
LOCATION: 7701 Wyoming Boulevard Northeast  Albuquerque NM 87109
GEO:35.1687378;-106.5608931
END:VEVENT
END:VCALENDAR