BEGIN:VCALENDAR
VERSION:2.0
PRODID:-//Tukios.com/
BEGIN:VEVENT
UID:f67b56f5-4b3d-402b-93e7-e038a48fcd10@www.frenchfunerals.com
DTSTAMP:20260424T012012Z
DTSTART:20260523T160000Z
DTEND:20260523T170000Z
SUMMARY:Funeral Service
DESCRIPTION:
URL:https://www.frenchfunerals.com/obituaries/rebecca-cde-baca
LOCATION:Risen Savior Catholic Church 7701 Wyoming Boulevard Northeast  
	Albuquerque NM 87109
GEO:35.1687378;-106.5608931
END:VEVENT
END:VCALENDAR