BEGIN:VCALENDAR
VERSION:2.0
PRODID:-//Tukios.com/
BEGIN:VEVENT
UID:bdc2e2bc-8c48-4b26-93fb-0f03b4e6b816@www.frenchfunerals.com
DTSTAMP:20260422T023905Z
DTSTART:20260501T160000Z
DTEND:20260501T170000Z
SUMMARY:Memorial Service
DESCRIPTION:
URL:https://www.frenchfunerals.com/obituaries/rafael-and-rosalina-rubio
LOCATION:Wyoming Chapel 7121 Wyoming Blvd NE  Albuquerque NM 87109
GEO:35.1609603;-106.5604525
END:VEVENT
END:VCALENDAR