BEGIN:VCALENDAR
VERSION:2.0
PRODID:-//Tukios.com/
BEGIN:VEVENT
UID:b449891e-6166-4b41-9dcc-f9bf98e5b75f@www.frenchfunerals.com
DTSTAMP:20260424T214615Z
DTSTART:20260511T160000Z
DTEND:20260511T170000Z
SUMMARY:Memorial Service
DESCRIPTION:
URL:https://www.frenchfunerals.com/obituaries/patricia-harris
LOCATION:St Michael & All Angels Episcopal Church 601 Montaño Rd NW  
	Albuquerque NM 87107
GEO:35.1392455;-106.6449208
END:VEVENT
END:VCALENDAR