BEGIN:VCALENDAR
VERSION:2.0
PRODID:-//Tukios.com/
BEGIN:VEVENT
UID:12922878-f8f7-4b47-b85b-ec7a828033dc@www.frenchfunerals.com
DTSTAMP:20260424T190742Z
DTSTART:20260531T190000Z
DTEND:20260531T220000Z
SUMMARY:Celebration of Life
DESCRIPTION:
URL:https://www.frenchfunerals.com/obituaries/melissa-horan
LOCATION:Indian Pueblo Cultural Center 2401 12th Street Northwest  
	Albuquerque NM 87104
GEO:35.1099323;-106.6590017
END:VEVENT
END:VCALENDAR