BEGIN:VCALENDAR
VERSION:2.0
PRODID:-//Tukios.com/
BEGIN:VEVENT
UID:1bb5bda0-26ee-43d0-9970-e48f7e79d80d@www.frenchfunerals.com
DTSTAMP:20260422T024047Z
DTSTART:20260506T160000Z
DTEND:20260506T170000Z
SUMMARY:Memorial Service
DESCRIPTION:
URL:https://www.frenchfunerals.com/obituaries/mary-duggin
LOCATION:Lomas Chapel 10500 Lomas Blvd NE  Albuquerque NM 87112
GEO:35.0868083;-106.5310544
END:VEVENT
END:VCALENDAR