BEGIN:VCALENDAR
VERSION:2.0
PRODID:-//Tukios.com/
BEGIN:VEVENT
UID:0e1c1165-eaa4-4c2e-a222-4e9e544498ec@www.frenchfunerals.com
DTSTAMP:20260422T024047Z
DTSTART:20260506T170000Z
DTEND:20260506T190000Z
SUMMARY:Reception
DESCRIPTION:
URL:https://www.frenchfunerals.com/obituaries/mary-duggin
LOCATION:Lomas Reception Room 10500 Lomas Blvd NE  Albuquerque NM 87112
GEO:35.0868083;-106.5310544
END:VEVENT
END:VCALENDAR