BEGIN:VCALENDAR
VERSION:2.0
PRODID:-//Tukios.com/
BEGIN:VEVENT
UID:2b55be7f-ac9e-4c36-ba77-c494d54bec62@www.frenchfunerals.com
DTSTAMP:20260424T200525Z
DTSTART:20260504T160000Z
DTEND:20260504T170000Z
SUMMARY:Rosary
DESCRIPTION:
URL:https://www.frenchfunerals.com/obituaries/luz-romero
LOCATION: 1111 University Boulevard Northeast  Albuquerque NM 87102
GEO:35.0926873;-106.626242
END:VEVENT
END:VCALENDAR