BEGIN:VCALENDAR
VERSION:2.0
PRODID:-//Tukios.com/
BEGIN:VEVENT
UID:566ae759-bba3-4913-bb57-98aeb95c70ac@www.frenchfunerals.com
DTSTAMP:20260424T200739Z
DTSTART:20260504T193000Z
DTEND:20260504T200000Z
SUMMARY:Graveside Service
DESCRIPTION:
URL:https://www.frenchfunerals.com/obituaries/luz-romero
LOCATION: 501 North Guadalupe Street  Santa Fe NM 87501
GEO:35.6963506;-105.9492183
END:VEVENT
END:VCALENDAR