BEGIN:VCALENDAR
VERSION:2.0
PRODID:-//Tukios.com/
BEGIN:VEVENT
UID:a0234ced-5dc0-4e60-8a81-9c91ff087947@www.frenchfunerals.com
DTSTAMP:20260424T025958Z
DTSTART:20260501T230000Z
DTEND:20260502T000000Z
SUMMARY:Reception
DESCRIPTION:
URL:https://www.frenchfunerals.com/obituaries/lorenzo-montoya
LOCATION:Fairbanks Residence Fairbanks Residence  Albuquerque NM 87111
GEO:35.1119106;-106.5382121
END:VEVENT
END:VCALENDAR