BEGIN:VCALENDAR
VERSION:2.0
PRODID:-//Tukios.com/
BEGIN:VEVENT
UID:db02b6ff-2458-400b-b44c-6f9642d1628f@www.frenchfunerals.com
DTSTAMP:20260424T025958Z
DTSTART:20260501T220000Z
DTEND:20260501T230000Z
SUMMARY:Funeral Service
DESCRIPTION:
URL:https://www.frenchfunerals.com/obituaries/lorenzo-montoya
LOCATION:FRENCH -University 1111 University Boulevard Northeast  
	Albuquerque NM 87102
GEO:35.0926873;-106.626242
END:VEVENT
END:VCALENDAR