BEGIN:VCALENDAR
VERSION:2.0
PRODID:-//Tukios.com/
BEGIN:VEVENT
UID:710609bc-5074-40d1-b8f0-a1dec5fc6dee@www.frenchfunerals.com
DTSTAMP:20260424T025811Z
DTSTART:20260501T210000Z
DTEND:20260501T220000Z
SUMMARY:Visitation
DESCRIPTION:
URL:https://www.frenchfunerals.com/obituaries/lorenzo-montoya
LOCATION:FRENCH -University 1111 University Boulevard Northeast  
	Albuquerque NM 87102
GEO:35.0926873;-106.626242
END:VEVENT
END:VCALENDAR