BEGIN:VCALENDAR
VERSION:2.0
PRODID:-//Tukios.com/
BEGIN:VEVENT
UID:eff72f73-0f95-43bd-a781-2fbd5cbfcb28@www.frenchfunerals.com
DTSTAMP:20260424T205827Z
DTSTART:20260508T010000Z
DTEND:20260508T020000Z
SUMMARY:Rosary
DESCRIPTION:
URL:https://www.frenchfunerals.com/obituaries/john-baca
LOCATION: 1111 University Boulevard Northeast  Albuquerque NM 87102
GEO:35.0926873;-106.626242
END:VEVENT
END:VCALENDAR