BEGIN:VCALENDAR
VERSION:2.0
PRODID:-//Tukios.com/
BEGIN:VEVENT
UID:59506f1f-ccc4-4793-9f45-39f2c98203cf@www.frenchfunerals.com
DTSTAMP:20260424T210237Z
DTSTART:20260508T150000Z
DTEND:20260508T160000Z
SUMMARY:Mass
DESCRIPTION:
URL:https://www.frenchfunerals.com/obituaries/john-baca
LOCATION: 562 Atrisco Drive Southwest  Albuquerque NM 87105
GEO:35.0745733;-106.6865793
END:VEVENT
END:VCALENDAR