BEGIN:VCALENDAR
VERSION:2.0
PRODID:-//Tukios.com/
BEGIN:VEVENT
UID:2963e1f2-7e75-4916-a63e-07108c7a42ae@www.frenchfunerals.com
DTSTAMP:20260422T014323Z
DTSTART:20260429T160000Z
DTEND:20260429T170000Z
SUMMARY:Memorial Service
DESCRIPTION:
URL:https://www.frenchfunerals.com/obituaries/jack-brannock
LOCATION:Wyoming Chapel 7121 Wyoming Blvd NE  Albuquerque NM 87109
GEO:35.1609603;-106.5604525
END:VEVENT
END:VCALENDAR