BEGIN:VCALENDAR
VERSION:2.0
PRODID:-//Tukios.com/
BEGIN:VEVENT
UID:d9dc4211-c277-4b19-8df0-f718f2a635ea@www.frenchfunerals.com
DTSTAMP:20260422T014301Z
DTSTART:20260429T170000Z
DTEND:20260429T190000Z
SUMMARY:Reception
DESCRIPTION:
URL:https://www.frenchfunerals.com/obituaries/jack-brannock
LOCATION:Wyoming Reception room 7121 Wyoming Blvd NE  Albuquerque NM 
	87109
GEO:35.1609603;-106.5604525
END:VEVENT
END:VCALENDAR