BEGIN:VCALENDAR
VERSION:2.0
PRODID:-//Tukios.com/
BEGIN:VEVENT
UID:ebeb7ac8-c9fb-4d36-9540-575fb6e9ddd4@www.frenchfunerals.com
DTSTAMP:20260421T233731Z
DTSTART:20260515T220000Z
DTEND:20260515T230000Z
SUMMARY:Memorial Service
DESCRIPTION:
URL:https://www.frenchfunerals.com/obituaries/harry-hodges
LOCATION:Lomas Chapel 10500 Lomas Blvd NE  Albuquerque NM 87112
GEO:35.0868083;-106.5310544
END:VEVENT
END:VCALENDAR