BEGIN:VCALENDAR
VERSION:2.0
PRODID:-//Tukios.com/
BEGIN:VEVENT
UID:1d4c6eb3-4e9d-4d19-8732-4450ed120e5c@www.frenchfunerals.com
DTSTAMP:20260421T024411Z
DTSTART:20260425T190000Z
DTEND:20260425T193000Z
SUMMARY:Graveside Service
DESCRIPTION:
URL:https://www.frenchfunerals.com/obituaries/gordon-braithwaite
LOCATION: 924 Menaul Blvd NE  Albuquerque NM 87107
GEO:35.1077324;-106.6328375
END:VEVENT
END:VCALENDAR