BEGIN:VCALENDAR
VERSION:2.0
PRODID:-//Tukios.com/
BEGIN:VEVENT
UID:f366a8e3-716b-4852-ad95-0835306ee8a0@www.frenchfunerals.com
DTSTAMP:20260421T024516Z
DTSTART:20260425T170000Z
DTEND:20260425T180000Z
SUMMARY:Funeral Service
DESCRIPTION:
URL:https://www.frenchfunerals.com/obituaries/gordon-braithwaite
LOCATION:French Funerals & Cremations 10500 Lomas Blvd NE  Albuquerque NM 
	87112
GEO:35.0868083;-106.5310544
END:VEVENT
END:VCALENDAR