BEGIN:VCALENDAR
VERSION:2.0
PRODID:-//Tukios.com/
BEGIN:VEVENT
UID:5cf2e754-e6a4-43e8-84e3-b6468c3929b8@www.frenchfunerals.com
DTSTAMP:20260421T024411Z
DTSTART:20260425T180000Z
DTEND:20260425T184500Z
SUMMARY:Visitation
DESCRIPTION:
URL:https://www.frenchfunerals.com/obituaries/gordon-braithwaite
LOCATION:French Funerals & Cremations 10500 Lomas Blvd NE  Albuquerque NM 
	87112
GEO:35.0868083;-106.5310544
END:VEVENT
END:VCALENDAR