BEGIN:VCALENDAR
VERSION:2.0
PRODID:-//Tukios.com/
BEGIN:VEVENT
UID:9abf5abf-cee9-4c00-b82d-fe79d7c35f01@www.frenchfunerals.com
DTSTAMP:20260421T192041Z
DTSTART:20260424T180000Z
DTEND:20260424T183000Z
SUMMARY:Graveside Service
DESCRIPTION:
URL:https://www.frenchfunerals.com/obituaries/frances-morales
LOCATION: 1900 Edith Boulevard Northeast  Albuquerque NM 87102
GEO:35.1018254;-106.6357618
END:VEVENT
END:VCALENDAR