BEGIN:VCALENDAR
VERSION:2.0
PRODID:-//Tukios.com/
BEGIN:VEVENT
UID:050490a6-327d-4e33-b706-764a2a788e5d@www.frenchfunerals.com
DTSTAMP:20260421T192155Z
DTSTART:20260424T153000Z
DTEND:20260424T160000Z
SUMMARY:Rosary
DESCRIPTION:
URL:https://www.frenchfunerals.com/obituaries/frances-morales
LOCATION:St. Jude Thaddeus Catholic Church 5712 Paradise Blvd NW  
	Albuquerque NM 87114
GEO:35.1949139;-106.7074109
END:VEVENT
END:VCALENDAR