BEGIN:VCALENDAR
VERSION:2.0
PRODID:-//Tukios.com/
BEGIN:VEVENT
UID:c134840a-9007-495c-88fe-93bd872b576b@www.frenchfunerals.com
DTSTAMP:20260421T191850Z
DTSTART:20260424T161500Z
DTEND:20260424T171500Z
SUMMARY:Mass
DESCRIPTION:
URL:https://www.frenchfunerals.com/obituaries/frances-morales
LOCATION:St. Jude Thaddeus Catholic Church 5712 Paradise Blvd NW  
	Albuquerque NM 87114
GEO:35.1949139;-106.7074109
END:VEVENT
END:VCALENDAR