BEGIN:VCALENDAR
VERSION:2.0
PRODID:-//Tukios.com/
BEGIN:VEVENT
UID:7c6a3099-0cc7-4831-ac21-266ad7e8eb42@www.frenchfunerals.com
DTSTAMP:20260425T004430Z
DTSTART:20260512T170000Z
DTEND:20260512T180000Z
SUMMARY:Memorial Service
DESCRIPTION:
URL:https://www.frenchfunerals.com/obituaries/eleanor-wootten
LOCATION:FRENCH - Rio Rancho Chapel 1275 Unser Blvd. NE  Rio Rancho NM 
	87144
GEO:35.2797045;-106.6977347
END:VEVENT
END:VCALENDAR