BEGIN:VCALENDAR
VERSION:2.0
PRODID:-//Tukios.com/
BEGIN:VEVENT
UID:e99b44f6-ad56-465a-9218-933e69446057@www.frenchfunerals.com
DTSTAMP:20260425T004430Z
DTSTART:20260512T180000Z
DTEND:20260512T200000Z
SUMMARY:Reception
DESCRIPTION:
URL:https://www.frenchfunerals.com/obituaries/eleanor-wootten
LOCATION:FRENCH - Rio Rancho Reception room 1275 Unser Blvd. NE  Rio 
	Rancho NM 87144
GEO:35.2797045;-106.6977347
END:VEVENT
END:VCALENDAR