BEGIN:VCALENDAR
VERSION:2.0
PRODID:-//Tukios.com/
BEGIN:VEVENT
UID:df4966f0-1792-459b-b7fa-f0307b2d2698@www.frenchfunerals.com
DTSTAMP:20260423T192507Z
DTSTART:20260430T154000Z
DTEND:20260430T160000Z
SUMMARY:Rosary
DESCRIPTION:
URL:https://www.frenchfunerals.com/obituaries/anthony-russo
LOCATION:Shrine of St. Bernadette 10500 Lomas Boulevard Northeast  
	Albuquerque NM 87123
GEO:35.0868083;-106.5310544
END:VEVENT
END:VCALENDAR