BEGIN:VCALENDAR
VERSION:2.0
PRODID:-//Tukios.com/
BEGIN:VEVENT
UID:8d947be5-cbf0-47a0-9597-0347bacabbea@www.frenchfunerals.com
DTSTAMP:20260423T192815Z
DTSTART:20260430T160000Z
DTEND:20260430T170000Z
SUMMARY:Mass
DESCRIPTION:
URL:https://www.frenchfunerals.com/obituaries/anthony-russo
LOCATION:The Shrine of Saint Bernadette 11509 Indian School Rd.  
	Albuquerque NM 87112
GEO:35.1021584;-106.5194523
END:VEVENT
END:VCALENDAR